Package: messina
Version: 1.41.0
Command: rm -rf messina.buildbin-libdir && mkdir messina.buildbin-libdir && F:\biocbuild\bbs-3.20-bioc\R\bin\R.exe CMD INSTALL --build --library=messina.buildbin-libdir messina_1.41.0.tar.gz
StartedAt: 2024-05-21 07:09:52 -0400 (Tue, 21 May 2024)
EndedAt: 2024-05-21 07:10:35 -0400 (Tue, 21 May 2024)
EllapsedTime: 42.7 seconds
RetCode: 0
Status: OK
PackageFile: messina_1.41.0.zip
PackageFileSize: 843 <A href="http://en.wikipedia.org/wiki/KiB" target="_blank">KiB</A>