Package: metaCCA Version: 1.34.0 Command: /Library/Frameworks/R.framework/Resources/bin/R CMD INSTALL metaCCA StartedAt: 2025-02-03 16:15:02 -0500 (Mon, 03 Feb 2025) EndedAt: 2025-02-03 16:15:10 -0500 (Mon, 03 Feb 2025) EllapsedTime: 8.4 seconds RetCode: 0 Status: OK