Package: metaCCA Version: 1.34.0 Command: /home/biocbuild/bbs-3.20-bioc/R/bin/R CMD build --keep-empty-dirs --no-resave-data --md5 metaCCA StartedAt: 2025-02-03 18:07:16 -0500 (Mon, 03 Feb 2025) EndedAt: 2025-02-03 18:07:23 -0500 (Mon, 03 Feb 2025) EllapsedTime: 7.0 seconds RetCode: 0 Status: OK PackageFile: metaCCA_1.34.0.tar.gz PackageFileSize: 925.2 KiB