Package: metaCCA Version: 1.34.0 Command: rm -rf metaCCA.buildbin-libdir && mkdir metaCCA.buildbin-libdir && F:\biocbuild\bbs-3.20-bioc\R\bin\R.exe CMD INSTALL --build --library=metaCCA.buildbin-libdir metaCCA_1.34.0.tar.gz StartedAt: 2025-02-04 08:52:53 -0500 (Tue, 04 Feb 2025) EndedAt: 2025-02-04 08:53:04 -0500 (Tue, 04 Feb 2025) EllapsedTime: 11.5 seconds RetCode: 0 Status: OK PackageFile: metaCCA_1.34.0.zip PackageFileSize: 976.7 KiB