Package: metaCCA Version: 1.34.0 Command: /home/biocbuild/R/R/bin/R CMD build --keep-empty-dirs --no-resave-data metaCCA StartedAt: 2025-02-04 00:47:18 -0000 (Tue, 04 Feb 2025) EndedAt: 2025-02-04 00:47:26 -0000 (Tue, 04 Feb 2025) EllapsedTime: 8.0 seconds RetCode: 0 Status: OK PackageFile: metaCCA_1.34.0.tar.gz PackageFileSize: 916.2 KiB