Package: metaCCA Version: 1.34.0 Command: /home/biocbuild/R/R/bin/R CMD INSTALL metaCCA StartedAt: 2025-02-03 21:03:30 -0000 (Mon, 03 Feb 2025) EndedAt: 2025-02-03 21:03:34 -0000 (Mon, 03 Feb 2025) EllapsedTime: 3.9 seconds RetCode: 0 Status: OK