Package: metaMS
Version: 1.42.0
Command: rm -rf metaMS.buildbin-libdir && mkdir metaMS.buildbin-libdir && /Users/biocbuild/BBS/utils/build-universal.sh metaMS_1.42.0.tar.gz /Library/Frameworks/R.framework/Resources/bin/R metaMS.buildbin-libdir
StartedAt: 2025-02-19 15:52:10 -0500 (Wed, 19 Feb 2025)
EndedAt: 2025-02-19 15:53:08 -0500 (Wed, 19 Feb 2025)
EllapsedTime: 58.6 seconds
RetCode: 0
Status: OK
PackageFile: metaMS_1.42.0.tgz
PackageFileSize: 4.289 <A href="http://en.wikipedia.org/wiki/MiB" target="_blank">MiB</A>