Package: metaMS
Version: 1.42.0
Command: /Library/Frameworks/R.framework/Resources/bin/R CMD check --install=check:metaMS.install-out.txt --library=/Library/Frameworks/R.framework/Resources/library --no-vignettes --timings metaMS_1.42.0.tar.gz
StartedAt: 2025-02-19 00:26:42 -0500 (Wed, 19 Feb 2025)
EndedAt: 2025-02-19 00:33:40 -0500 (Wed, 19 Feb 2025)
EllapsedTime: 417.6 seconds
RetCode: 0
Status: OK
CheckDir: metaMS.Rcheck
Warnings: 0