Package: metaMS Version: 1.42.0 Command: /Library/Frameworks/R.framework/Resources/bin/R CMD INSTALL metaMS StartedAt: 2025-02-17 17:05:36 -0500 (Mon, 17 Feb 2025) EndedAt: 2025-02-17 17:06:30 -0500 (Mon, 17 Feb 2025) EllapsedTime: 54.3 seconds RetCode: 0 Status: OK