Package: metaMS
Version: 1.42.0
Command: /home/biocbuild/bbs-3.20-bioc/R/bin/R CMD check --install=check:metaMS.install-out.txt --library=/home/biocbuild/bbs-3.20-bioc/R/site-library --timings metaMS_1.42.0.tar.gz
StartedAt: 2025-02-17 23:38:46 -0500 (Mon, 17 Feb 2025)
EndedAt: 2025-02-17 23:44:52 -0500 (Mon, 17 Feb 2025)
EllapsedTime: 366.3 seconds
RetCode: 0
Status: OK
CheckDir: metaMS.Rcheck
Warnings: 0