Package: metaSeq Version: 1.46.0 Command: rm -rf metaSeq.buildbin-libdir && mkdir metaSeq.buildbin-libdir && /Users/biocbuild/BBS/utils/build-universal.sh metaSeq_1.46.0.tar.gz /Library/Frameworks/R.framework/Resources/bin/R metaSeq.buildbin-libdir StartedAt: 2025-02-05 16:34:45 -0500 (Wed, 05 Feb 2025) EndedAt: 2025-02-05 16:34:55 -0500 (Wed, 05 Feb 2025) EllapsedTime: 10.1 seconds RetCode: 0 Status: OK PackageFile: metaSeq_1.46.0.tgz PackageFileSize: 6.179 MiB