Package: metaSeq Version: 1.46.0 Command: /home/biocbuild/bbs-3.20-bioc/R/bin/R CMD build --keep-empty-dirs --no-resave-data --md5 metaSeq StartedAt: 2025-02-10 18:00:43 -0500 (Mon, 10 Feb 2025) EndedAt: 2025-02-10 18:00:55 -0500 (Mon, 10 Feb 2025) EllapsedTime: 12.0 seconds RetCode: 0 Status: OK PackageFile: metaSeq_1.46.0.tar.gz PackageFileSize: 6.2 MiB