Package: metaSeq Version: 1.46.0 Command: /home/biocbuild/bbs-3.20-bioc/R/bin/R CMD check --install=check:metaSeq.install-out.txt --library=/home/biocbuild/bbs-3.20-bioc/R/site-library --timings metaSeq_1.46.0.tar.gz StartedAt: 2025-02-03 23:56:44 -0500 (Mon, 03 Feb 2025) EndedAt: 2025-02-03 23:57:44 -0500 (Mon, 03 Feb 2025) EllapsedTime: 60.1 seconds RetCode: 0 Status: OK CheckDir: metaSeq.Rcheck Warnings: 0