Package: metaSeq Version: 1.46.0 Command: F:\biocbuild\bbs-3.20-bioc\R\bin\R.exe CMD check --no-multiarch --install=check:metaSeq.install-out.txt --library=F:\biocbuild\bbs-3.20-bioc\R\library --no-vignettes --timings metaSeq_1.46.0.tar.gz StartedAt: 2025-02-11 03:26:37 -0500 (Tue, 11 Feb 2025) EndedAt: 2025-02-11 03:27:52 -0500 (Tue, 11 Feb 2025) EllapsedTime: 75.1 seconds RetCode: 0 Status: OK CheckDir: metaSeq.Rcheck Warnings: 0