Package: metabCombiner Version: 1.16.0 Command: rm -rf metabCombiner.buildbin-libdir && mkdir metabCombiner.buildbin-libdir && /Users/biocbuild/BBS/utils/build-universal.sh metabCombiner_1.16.0.tar.gz /Library/Frameworks/R.framework/Resources/bin/R metabCombiner.buildbin-libdir StartedAt: 2025-02-05 16:33:07 -0500 (Wed, 05 Feb 2025) EndedAt: 2025-02-05 16:33:30 -0500 (Wed, 05 Feb 2025) EllapsedTime: 22.6 seconds RetCode: 0 Status: OK PackageFile: metabCombiner_1.16.0.tgz PackageFileSize: 2.936 MiB