Package: metabCombiner Version: 1.16.0 Command: /Library/Frameworks/R.framework/Resources/bin/R CMD build --keep-empty-dirs --no-resave-data metabCombiner StartedAt: 2025-02-04 02:48:06 -0500 (Tue, 04 Feb 2025) EndedAt: 2025-02-04 02:48:47 -0500 (Tue, 04 Feb 2025) EllapsedTime: 40.8 seconds RetCode: 0 Status: OK PackageFile: metabCombiner_1.16.0.tar.gz PackageFileSize: 2.552 MiB