Package: metabCombiner Version: 1.16.0 Command: /Library/Frameworks/R.framework/Resources/bin/R CMD INSTALL metabCombiner StartedAt: 2025-02-03 17:35:07 -0500 (Mon, 03 Feb 2025) EndedAt: 2025-02-03 17:35:27 -0500 (Mon, 03 Feb 2025) EllapsedTime: 20.0 seconds RetCode: 0 Status: OK