Package: metabinR Version: 1.8.0 Command: /Library/Frameworks/R.framework/Resources/bin/R CMD check --install=check:metabinR.install-out.txt --library=/Library/Frameworks/R.framework/Resources/library --no-vignettes --timings metabinR_1.8.0.tar.gz StartedAt: 2025-02-11 06:03:42 -0500 (Tue, 11 Feb 2025) EndedAt: 2025-02-11 06:05:43 -0500 (Tue, 11 Feb 2025) EllapsedTime: 120.5 seconds RetCode: 0 Status: OK CheckDir: metabinR.Rcheck Warnings: 0