Package: metabinR Version: 1.8.0 Command: rm -rf metabinR.buildbin-libdir && mkdir metabinR.buildbin-libdir && F:\biocbuild\bbs-3.20-bioc\R\bin\R.exe CMD INSTALL --build --library=metabinR.buildbin-libdir metabinR_1.8.0.tar.gz StartedAt: 2025-02-04 08:52:37 -0500 (Tue, 04 Feb 2025) EndedAt: 2025-02-04 08:52:50 -0500 (Tue, 04 Feb 2025) EllapsedTime: 12.8 seconds RetCode: 0 Status: OK PackageFile: metabinR_1.8.0.zip PackageFileSize: 4.335 MiB