Package: metabinR Version: 1.8.0 Command: /home/biocbuild/R/R/bin/R CMD INSTALL metabinR StartedAt: 2025-02-10 20:12:33 -0000 (Mon, 10 Feb 2025) EndedAt: 2025-02-10 20:13:05 -0000 (Mon, 10 Feb 2025) EllapsedTime: 32.3 seconds RetCode: 0 Status: OK