Package: metabomxtr Version: 1.40.0 Command: /Library/Frameworks/R.framework/Resources/bin/R CMD build --keep-empty-dirs --no-resave-data metabomxtr StartedAt: 2025-02-04 02:49:49 -0500 (Tue, 04 Feb 2025) EndedAt: 2025-02-04 02:50:29 -0500 (Tue, 04 Feb 2025) EllapsedTime: 40.2 seconds RetCode: 0 Status: OK PackageFile: metabomxtr_1.40.0.tar.gz PackageFileSize: 559.2 KiB