Package: metabomxtr Version: 1.40.0 Command: /Library/Frameworks/R.framework/Resources/bin/R CMD INSTALL metabomxtr StartedAt: 2025-02-03 17:24:24 -0500 (Mon, 03 Feb 2025) EndedAt: 2025-02-03 17:24:35 -0500 (Mon, 03 Feb 2025) EllapsedTime: 11.1 seconds RetCode: 0 Status: OK