Package: metabomxtr Version: 1.40.0 Command: /home/biocbuild/R/R/bin/R CMD build --keep-empty-dirs --no-resave-data metabomxtr StartedAt: 2025-02-04 00:47:02 -0000 (Tue, 04 Feb 2025) EndedAt: 2025-02-04 00:47:34 -0000 (Tue, 04 Feb 2025) EllapsedTime: 32.0 seconds RetCode: 0 Status: OK PackageFile: metabomxtr_1.40.0.tar.gz PackageFileSize: 545.8 KiB