Package: metabomxtr Version: 1.40.0 Command: /home/biocbuild/R/R/bin/R CMD INSTALL metabomxtr StartedAt: 2025-02-03 21:09:50 -0000 (Mon, 03 Feb 2025) EndedAt: 2025-02-03 21:10:02 -0000 (Mon, 03 Feb 2025) EllapsedTime: 11.9 seconds RetCode: 0 Status: OK