Package: metahdep
Version: 1.64.0
Command: /home/biocbuild/R/R/bin/R CMD INSTALL metahdep
StartedAt: 2024-11-19 20:26:28 -0000 (Tue, 19 Nov 2024)
EndedAt: 2024-11-19 20:26:36 -0000 (Tue, 19 Nov 2024)
EllapsedTime: 8.5 seconds
RetCode: 1
Status: ERROR