Package: metahdep Version: 1.64.0 Command: /home/biocbuild/bbs-3.20-bioc/R/bin/R CMD build --keep-empty-dirs --no-resave-data --md5 metahdep StartedAt: 2025-02-03 18:07:37 -0500 (Mon, 03 Feb 2025) EndedAt: 2025-02-03 18:07:44 -0500 (Mon, 03 Feb 2025) EllapsedTime: 7.0 seconds RetCode: 0 Status: OK PackageFile: metahdep_1.64.0.tar.gz PackageFileSize: 552.6 KiB