Package: metahdep
Version: 1.63.0
Command: rm -rf metahdep.buildbin-libdir && mkdir metahdep.buildbin-libdir && F:\biocbuild\bbs-3.20-bioc\R\bin\R.exe CMD INSTALL --build --library=metahdep.buildbin-libdir metahdep_1.63.0.tar.gz
StartedAt: 2024-06-10 14:09:37 -0400 (Mon, 10 Jun 2024)
EndedAt: 2024-06-10 14:10:32 -0400 (Mon, 10 Jun 2024)
EllapsedTime: 55.3 seconds
RetCode: 0
Status: OK
PackageFile: metahdep_1.63.0.zip
PackageFileSize: 547.5 <A href="http://en.wikipedia.org/wiki/KiB" target="_blank">KiB</A>