##############################################################################
##############################################################################
###
### Running command:
###
###   rm -rf metahdep.buildbin-libdir && mkdir metahdep.buildbin-libdir && F:\biocbuild\bbs-3.20-bioc\R\bin\R.exe CMD INSTALL --build --library=metahdep.buildbin-libdir metahdep_1.64.0.tar.gz
###
##############################################################################
##############################################################################


* installing *source* package 'metahdep' ...
** using staged installation
** libs
using C compiler: 'gcc.exe (GCC) 13.3.0'
gcc  -I"F:/biocbuild/bbs-3.20-bioc/R/include" -DNDEBUG     -I"C:/rtools44/x86_64-w64-mingw32.static.posix/include"     -O2 -Wall  -mfpmath=sse -msse2 -mstackrealign  -c metahdep.c -o metahdep.o
In file included from metahdep.c:3:
metahdep.c: In function 'get_row_indices2':
F:/biocbuild/bbs-3.20-bioc/R/include/Rinternals.h:200:17: warning: passing argument 5 of 'metan_binary_search_unique' makes integer from pointer without a cast [-Wint-conversion]
  200 | #define CHAR(x) R_CHAR(x)
      |                 ^~~~~~~~~
      |                 |
      |                 const char *
metahdep.c:471:107: note: in expansion of macro 'CHAR'
  471 |                                 index = metan_binary_search_unique(name_list, sort_index, R_old_names, j, CHAR(STRING_ELT(R_old_chipsets, j)), i);
      |                                                                                                           ^~~~
metahdep.c:372:103: note: expected 'char' but argument is of type 'const char *'
  372 | SEXP metan_binary_search_unique(SEXP name_list, SEXP sort_index, SEXP gene_name, int gene_index, char chipset_name, int study_num)
      |                                                                                                  ~~~~~^~~~~~~~~~~~
gcc -shared -s -static-libgcc -o metahdep.dll tmp.def metahdep.o -LC:/rtools44/x86_64-w64-mingw32.static.posix/lib/x64 -LC:/rtools44/x86_64-w64-mingw32.static.posix/lib -LF:/biocbuild/bbs-3.20-bioc/R/bin/x64 -lR
installing to F:/biocbuild/bbs-3.20-bioc/meat/metahdep.buildbin-libdir/00LOCK-metahdep/00new/metahdep/libs/x64
** R
** data
** inst
** byte-compile and prepare package for lazy loading
** help
*** installing help indices
** building package indices
** installing vignettes
** testing if installed package can be loaded from temporary location
** testing if installed package can be loaded from final location
** testing if installed package keeps a record of temporary installation path
* MD5 sums
packaged installation of 'metahdep' as metahdep_1.64.0.zip
* DONE (metahdep)