Package: metahdep
Version: 1.64.0
Command: /home/biocbuild/R/R/bin/R CMD build --keep-empty-dirs --no-resave-data metahdep
StartedAt: 2025-02-14 00:49:05 -0000 (Fri, 14 Feb 2025)
EndedAt: 2025-02-14 00:49:06 -0000 (Fri, 14 Feb 2025)
EllapsedTime: 1.0 seconds
RetCode: 1
Status: ERROR
PackageFile: None
PackageFileSize: NA