Package: metahdep Version: 1.64.0 Command: /home/biocbuild/R/R/bin/R CMD INSTALL metahdep StartedAt: 2025-02-03 20:21:19 -0000 (Mon, 03 Feb 2025) EndedAt: 2025-02-03 20:21:27 -0000 (Mon, 03 Feb 2025) EllapsedTime: 7.7 seconds RetCode: 1 Status: ERROR