Package: metapone Version: 1.12.0 Command: /Library/Frameworks/R.framework/Resources/bin/R CMD check --install=check:metapone.install-out.txt --library=/Library/Frameworks/R.framework/Resources/library --no-vignettes --timings metapone_1.12.0.tar.gz StartedAt: 2025-02-05 01:11:31 -0500 (Wed, 05 Feb 2025) EndedAt: 2025-02-05 01:15:28 -0500 (Wed, 05 Feb 2025) EllapsedTime: 237.1 seconds RetCode: 0 Status: OK CheckDir: metapone.Rcheck Warnings: 0