Package: metapone
Version: 1.12.0
Command: /Library/Frameworks/R.framework/Resources/bin/R CMD INSTALL metapone
StartedAt: 2024-11-19 15:33:03 -0500 (Tue, 19 Nov 2024)
EndedAt: 2024-11-19 15:33:26 -0500 (Tue, 19 Nov 2024)
EllapsedTime: 23.4 seconds
RetCode: 0
Status: OK