Package: metapone Version: 1.12.0 Command: rm -rf metapone.buildbin-libdir && mkdir metapone.buildbin-libdir && /Users/biocbuild/BBS/utils/build-universal.sh metapone_1.12.0.tar.gz /Library/Frameworks/R.framework/Resources/bin/R metapone.buildbin-libdir StartedAt: 2025-02-04 13:22:58 -0500 (Tue, 04 Feb 2025) EndedAt: 2025-02-04 13:23:28 -0500 (Tue, 04 Feb 2025) EllapsedTime: 30.3 seconds RetCode: 0 Status: OK PackageFile: metapone_1.12.0.tgz PackageFileSize: 3.793 MiB