Package: metapone Version: 1.12.0 Command: /home/biocbuild/R/R/bin/R CMD check --install=check:metapone.install-out.txt --library=/home/biocbuild/R/R/site-library --no-vignettes --timings metapone_1.12.0.tar.gz StartedAt: 2025-02-04 08:36:42 -0000 (Tue, 04 Feb 2025) EndedAt: 2025-02-04 08:40:32 -0000 (Tue, 04 Feb 2025) EllapsedTime: 229.3 seconds RetCode: 0 Status: OK CheckDir: metapone.Rcheck Warnings: 0