Package: metapone Version: 1.12.0 Command: /home/biocbuild/R/R/bin/R CMD INSTALL metapone StartedAt: 2025-02-03 21:04:39 -0000 (Mon, 03 Feb 2025) EndedAt: 2025-02-03 21:04:59 -0000 (Mon, 03 Feb 2025) EllapsedTime: 19.9 seconds RetCode: 0 Status: OK