Package: metaseqR2 Version: 1.18.0 Command: /Library/Frameworks/R.framework/Resources/bin/R CMD INSTALL metaseqR2 StartedAt: 2025-02-03 18:16:12 -0500 (Mon, 03 Feb 2025) EndedAt: 2025-02-03 18:17:39 -0500 (Mon, 03 Feb 2025) EllapsedTime: 86.5 seconds RetCode: 0 Status: OK