Package: metaseqR2
Version: 1.18.0
Command: /home/biocbuild/R/R/bin/R CMD build --keep-empty-dirs --no-resave-data metaseqR2
StartedAt: 2024-11-20 01:58:12 -0000 (Wed, 20 Nov 2024)
EndedAt: 2024-11-20 02:08:13 -0000 (Wed, 20 Nov 2024)
EllapsedTime: 600.8 seconds
RetCode: 0
Status: OK
PackageFile: metaseqR2_1.18.0.tar.gz
PackageFileSize: 2.783 <A href="http://en.wikipedia.org/wiki/MiB" target="_blank">MiB</A>