Package: metaseqR2 Version: 1.18.0 Command: /Library/Frameworks/R.framework/Resources/bin/R CMD build --keep-empty-dirs --no-resave-data metaseqR2 StartedAt: 2025-02-03 20:10:21 -0500 (Mon, 03 Feb 2025) EndedAt: 2025-02-03 20:25:30 -0500 (Mon, 03 Feb 2025) EllapsedTime: 908.6 seconds RetCode: 0 Status: OK PackageFile: metaseqR2_1.18.0.tar.gz PackageFileSize: 2.655 MiB