Package: metaseqR2 Version: 1.18.0 Command: F:\biocbuild\bbs-3.20-bioc\R\bin\R.exe CMD check --no-multiarch --install=check:metaseqR2.install-out.txt --library=F:\biocbuild\bbs-3.20-bioc\R\library --no-vignettes --timings metaseqR2_1.18.0.tar.gz StartedAt: 2025-02-04 03:33:29 -0500 (Tue, 04 Feb 2025) EndedAt: 2025-02-04 03:43:35 -0500 (Tue, 04 Feb 2025) EllapsedTime: 606.0 seconds RetCode: 0 Status: OK CheckDir: metaseqR2.Rcheck Warnings: 0