Package: metaseqR2 Version: 1.18.0 Command: /home/biocbuild/R/R/bin/R CMD INSTALL metaseqR2 StartedAt: 2025-02-03 21:23:55 -0000 (Mon, 03 Feb 2025) EndedAt: 2025-02-03 21:25:29 -0000 (Mon, 03 Feb 2025) EllapsedTime: 94.6 seconds RetCode: 0 Status: OK