Package: methInheritSim Version: 1.28.0 Command: /Library/Frameworks/R.framework/Resources/bin/R CMD build --keep-empty-dirs --no-resave-data methInheritSim StartedAt: 2025-02-04 02:56:37 -0500 (Tue, 04 Feb 2025) EndedAt: 2025-02-04 02:57:59 -0500 (Tue, 04 Feb 2025) EllapsedTime: 81.6 seconds RetCode: 0 Status: OK PackageFile: methInheritSim_1.28.0.tar.gz PackageFileSize: 1.117 MiB