Package: methInheritSim Version: 1.28.0 Command: /Library/Frameworks/R.framework/Resources/bin/R CMD check --install=check:methInheritSim.install-out.txt --library=/Library/Frameworks/R.framework/Resources/library --no-vignettes --timings methInheritSim_1.28.0.tar.gz StartedAt: 2025-02-05 01:15:28 -0500 (Wed, 05 Feb 2025) EndedAt: 2025-02-05 01:21:11 -0500 (Wed, 05 Feb 2025) EllapsedTime: 342.5 seconds RetCode: 0 Status: OK CheckDir: methInheritSim.Rcheck Warnings: 0