Package: methInheritSim Version: 1.28.0 Command: /Library/Frameworks/R.framework/Resources/bin/R CMD INSTALL methInheritSim StartedAt: 2025-01-30 16:18:43 -0500 (Thu, 30 Jan 2025) EndedAt: 2025-01-30 16:20:06 -0500 (Thu, 30 Jan 2025) EllapsedTime: 83.1 seconds RetCode: 0 Status: OK