Package: methInheritSim Version: 1.28.0 Command: /home/biocbuild/bbs-3.20-bioc/R/bin/R CMD build --keep-empty-dirs --no-resave-data --md5 methInheritSim StartedAt: 2025-01-30 17:59:02 -0500 (Thu, 30 Jan 2025) EndedAt: 2025-01-30 18:00:06 -0500 (Thu, 30 Jan 2025) EllapsedTime: 64.1 seconds RetCode: 0 Status: OK PackageFile: methInheritSim_1.28.0.tar.gz PackageFileSize: 1.119 MiB