Package: methInheritSim Version: 1.28.0 Command: rm -rf methInheritSim.buildbin-libdir && mkdir methInheritSim.buildbin-libdir && F:\biocbuild\bbs-3.20-bioc\R\bin\R.exe CMD INSTALL --build --library=methInheritSim.buildbin-libdir methInheritSim_1.28.0.tar.gz StartedAt: 2025-01-31 09:01:09 -0500 (Fri, 31 Jan 2025) EndedAt: 2025-01-31 09:02:05 -0500 (Fri, 31 Jan 2025) EllapsedTime: 56.0 seconds RetCode: 0 Status: OK PackageFile: methInheritSim_1.28.0.zip PackageFileSize: 724.3 KiB