Package: methInheritSim Version: 1.28.0 Command: chmod a+r methInheritSim -R && F:\biocbuild\bbs-3.20-bioc\R\bin\R.exe CMD build --keep-empty-dirs --no-resave-data methInheritSim StartedAt: 2025-01-30 20:01:03 -0500 (Thu, 30 Jan 2025) EndedAt: 2025-01-30 20:02:52 -0500 (Thu, 30 Jan 2025) EllapsedTime: 108.7 seconds RetCode: 0 Status: OK PackageFile: methInheritSim_1.28.0.tar.gz PackageFileSize: 1.117 MiB