Package: methInheritSim Version: 1.28.0 Command: /home/biocbuild/R/R/bin/R CMD INSTALL methInheritSim StartedAt: 2025-01-30 20:52:00 -0000 (Thu, 30 Jan 2025) EndedAt: 2025-01-30 20:52:45 -0000 (Thu, 30 Jan 2025) EllapsedTime: 45.5 seconds RetCode: 0 Status: OK