Package: methimpute Version: 1.28.0 Command: /Library/Frameworks/R.framework/Resources/bin/R CMD check --install=check:methimpute.install-out.txt --library=/Library/Frameworks/R.framework/Resources/library --no-vignettes --timings methimpute_1.28.0.tar.gz StartedAt: 2025-02-05 01:13:29 -0500 (Wed, 05 Feb 2025) EndedAt: 2025-02-05 01:16:14 -0500 (Wed, 05 Feb 2025) EllapsedTime: 165.2 seconds RetCode: 0 Status: WARNINGS CheckDir: methimpute.Rcheck Warnings: 1