Package: methimpute Version: 1.28.0 Command: /home/biocbuild/bbs-3.20-bioc/R/bin/R CMD INSTALL methimpute StartedAt: 2025-02-03 15:20:05 -0500 (Mon, 03 Feb 2025) EndedAt: 2025-02-03 15:20:44 -0500 (Mon, 03 Feb 2025) EllapsedTime: 39.7 seconds RetCode: 0 Status: OK