Package: methodical
Version: 1.1.0
Command: /home/biocbuild/R/R/bin/R CMD check --install=check:methodical.install-out.txt --library=/home/biocbuild/R/R/site-library --no-vignettes --timings methodical_1.1.0.tar.gz
StartedAt: 2024-10-08 06:47:01 -0000 (Tue, 08 Oct 2024)
EndedAt: 2024-10-08 07:00:12 -0000 (Tue, 08 Oct 2024)
EllapsedTime: 791.3 seconds
RetCode: 0
Status: OK
CheckDir: methodical.Rcheck
Warnings: 0